BEGIN:VCALENDAR
VERSION:2.0
PRODID:-//hacksw/handcal//NONSGML v1.0//EN
CALSCALE:GREGORIAN
BEGIN:VEVENT
LOCATION:235 Boulevard des Moures 34750 Villeneuve-lès-Maguelone
DESCRIPTION:Le Conseil Municipal se réunira le lundi 23 juin 2025 à 18h au Centre culturel...
DTSTART:20250623T180000
DTEND:20250624
SUMMARY:Conseil Municipal
URL;VALUE=URI:https://www.villeneuvelesmaguelone.fr/evenement/conseil-municipal-23-06/
DTSTAMP:20260420T082355
UID:69e5e29bd855f
END:VEVENT
END:VCALENDAR