BEGIN:VCALENDAR
VERSION:2.0
PRODID:-//hacksw/handcal//NONSGML v1.0//EN
CALSCALE:GREGORIAN
BEGIN:VEVENT
LOCATION:13 Rue de la Capelette 34750 Villeneuve-lès-Maguelone
DESCRIPTION:Course camarguaise&nbsp;organisée par la Section Taurine Villeneuvoise aux arènes municipales Claude Jouvenel. Président de course&nbsp;:...
DTSTART:20260425T160000
DTEND:20260426
SUMMARY:Course camarguaise. Ligue Occitanie
URL;VALUE=URI:https://www.villeneuvelesmaguelone.fr/evenement/course-camarguaise-3-2-2-2/
DTSTAMP:20260422T140634
UID:69e8d5ea0b35f
END:VEVENT
END:VCALENDAR