BEGIN:VCALENDAR
VERSION:2.0
PRODID:-//hacksw/handcal//NONSGML v1.0//EN
CALSCALE:GREGORIAN
BEGIN:VEVENT
LOCATION:13 Rue de la Capelette 34750 Villeneuve-lès-Maguelone
DESCRIPTION:Course de Taù organisée par la Section Taurine Villeneuvoise aux arènes municipales Claude Jouvenel. ♉︎ Manades...
DTSTART:20250711T210000
DTEND:20250712
SUMMARY:Course de Taù
URL;VALUE=URI:https://www.villeneuvelesmaguelone.fr/evenement/course-camarguaise-taureaux-jeunes-4-2-3-2/
DTSTAMP:20260420T111954
UID:69e60bdad4f5a
END:VEVENT
END:VCALENDAR