BEGIN:VCALENDAR
VERSION:2.0
PRODID:-//hacksw/handcal//NONSGML v1.0//EN
CALSCALE:GREGORIAN
BEGIN:VEVENT
LOCATION:13 Rue de la Capelette 34750 Villeneuve-lès-Maguelone
DESCRIPTION:Course camarguaise&nbsp;organisée par la Section Taurine Villeneuvoise aux arènes municipales Claude Jouvenel. ♉︎ Manades : Grand...
DTSTART:20250831T163000
DTEND:20250901
SUMMARY:Course camarguaise avenir/espoirs : 20e trophée de la vigne et des étangs
URL;VALUE=URI:https://www.villeneuvelesmaguelone.fr/evenement/course-camarguaise-taureaux-jeunes-4-2-3-3-2-2/
DTSTAMP:20260420T112459
UID:69e60d0bcf6b3
END:VEVENT
END:VCALENDAR