BEGIN:VCALENDAR
VERSION:2.0
PRODID:-//hacksw/handcal//NONSGML v1.0//EN
CALSCALE:GREGORIAN
BEGIN:VEVENT
LOCATION:13 Rue de la Capelette 34750 Villeneuve-lès-Maguelone
DESCRIPTION:Course camarguaise&nbsp;organisée par la Section Taurine Villeneuvoise aux arènes municipales Claude Jouvenel. ♉︎ Manades : Cyr...
DTSTART:20250824T163000
DTEND:20250825
SUMMARY:Course camarguaise as/élite : 4e trophée de la Ville
URL;VALUE=URI:https://www.villeneuvelesmaguelone.fr/evenement/course-camarguaise-taureaux-jeunes-4-2-3-3-2/
DTSTAMP:20260420T112635
UID:69e60d6b4982c
END:VEVENT
END:VCALENDAR