BEGIN:VCALENDAR
VERSION:2.0
PRODID:-//hacksw/handcal//NONSGML v1.0//EN
CALSCALE:GREGORIAN
BEGIN:VEVENT
LOCATION:13 Rue de la Capelette 34750 Villeneuve-lès-Maguelone
DESCRIPTION:Course camarguaise&nbsp;organisée par la Section Taurine Villeneuvoise aux arènes municipales Claude Jouvenel. ♉︎ Manades :&nbsp;Saumade...
DTSTART:20250712T163000
DTEND:20250713
SUMMARY:Course camarguaise avenir/espoirs : souvenir Elise Vallier et famille Vidal
URL;VALUE=URI:https://www.villeneuvelesmaguelone.fr/evenement/course-camarguaise-taureaux-jeunes-4-2-3-3/
DTSTAMP:20260420T111954
UID:69e60bda9d764
END:VEVENT
END:VCALENDAR