BEGIN:VCALENDAR
VERSION:2.0
PRODID:-//hacksw/handcal//NONSGML v1.0//EN
CALSCALE:GREGORIAN
BEGIN:VEVENT
LOCATION:13 Rue de la Capelette 34750 Villeneuve-lès-Maguelone
DESCRIPTION:Course de ligue Occitanie&nbsp;organisée par la Section Taurine Villeneuvoise aux arènes municipales Claude Jouvenel. ♉︎...
DTSTART:20250523T170000
DTEND:20250524
SUMMARY:Course de ligue Occitanie
URL;VALUE=URI:https://www.villeneuvelesmaguelone.fr/evenement/course-ligue-occitanie-2/
DTSTAMP:20260420T125027
UID:69e62113e9e3e
END:VEVENT
END:VCALENDAR