BEGIN:VCALENDAR
VERSION:2.0
PRODID:-//hacksw/handcal//NONSGML v1.0//EN
CALSCALE:GREGORIAN
BEGIN:VEVENT
LOCATION:13 Rue de la Capelette 34750 Villeneuve-lès-Maguelone
DESCRIPTION:Course de ligue Occitanie organisée par la Section Taurine Villeneuvoise aux arènes municipales Claude Jouvenel. ♉︎...
DTSTART:20250502T170000
DTEND:20250503
SUMMARY:Course de ligue Occitanie
URL;VALUE=URI:https://www.villeneuvelesmaguelone.fr/evenement/course-ligue-occitanie/
DTSTAMP:20260420T125018
UID:69e6210ac6861
END:VEVENT
END:VCALENDAR