BEGIN:VCALENDAR
VERSION:2.0
PRODID:-//hacksw/handcal//NONSGML v1.0//EN
CALSCALE:GREGORIAN
BEGIN:VEVENT
LOCATION:Théâtre municipal Jérôme Savary 34750 Villeneuve-lès-Maguelone
DESCRIPTION:Julie Benegmos et Marion Coutarel Dans le cadre du Pass Biennale ou du Pass Soirée...
DTSTART:20251107T210000
DTEND:20251108
SUMMARY:Et tout est rentré dans le désordre
URL;VALUE=URI:https://www.villeneuvelesmaguelone.fr/evenement/et-tout-est-rentre-dans-le-desordre/
DTSTAMP:20260420T014155
UID:69e58463d3046
END:VEVENT
END:VCALENDAR