BEGIN:VCALENDAR
VERSION:2.0
PRODID:-//hacksw/handcal//NONSGML v1.0//EN
CALSCALE:GREGORIAN
BEGIN:VEVENT
LOCATION:
DESCRIPTION:Si oui, Participez au concours photo d&rsquo;Halloween organisé par l&rsquo;association des commerçants de Villeneuve-lès-Maguelone et...
DTSTART:20251031T090000
DTEND:20251031T200000
SUMMARY:Etes-vous prêts à faire peur à vos commerçants ?
URL;VALUE=URI:https://www.villeneuvelesmaguelone.fr/evenement/etes-vous-prets-a-faire-peur-a-vos-commercants/
DTSTAMP:20260419T192924
UID:69e52d144ad06
END:VEVENT
END:VCALENDAR