BEGIN:VCALENDAR
VERSION:2.0
PRODID:-//hacksw/handcal//NONSGML v1.0//EN
CALSCALE:GREGORIAN
BEGIN:VEVENT
LOCATION:
DESCRIPTION:Giulia Foïs et Etienne Gaudillère « Tu es comédien·ne, tu rêves de faire du cinéma,...
DTSTART:20251212T200000
DTEND:20251213
SUMMARY:Faut-il séparer l’homme de l’artiste ?
URL;VALUE=URI:https://www.villeneuvelesmaguelone.fr/evenement/faut-il-separer-lhomme-de-lartiste/
DTSTAMP:20260420T050414
UID:69e5b3ce45a39
END:VEVENT
END:VCALENDAR