BEGIN:VCALENDAR
VERSION:2.0
PRODID:-//hacksw/handcal//NONSGML v1.0//EN
CALSCALE:GREGORIAN
BEGIN:VEVENT
LOCATION:235 Boulevard des Moures 34750 Villeneuve-lès-Maguelone
DESCRIPTION:Chaque année l&rsquo;APFH organise un festival folklorique portugais avec des groupes venant de toute la...
DTSTART:20250524T120000
DTEND:20250524T000000
SUMMARY:Festival Folklorique de l’APFH
URL;VALUE=URI:https://www.villeneuvelesmaguelone.fr/evenement/festival-folklorique-de-lapfh/
DTSTAMP:20260420T155904
UID:69e64d4859460
END:VEVENT
END:VCALENDAR