BEGIN:VCALENDAR
VERSION:2.0
PRODID:-//hacksw/handcal//NONSGML v1.0//EN
CALSCALE:GREGORIAN
BEGIN:VEVENT
LOCATION:Le Prat du Castel 34750 Villeneuve-lès-Maguelone
DESCRIPTION:Bien-être et découverte au programme ! Les 30 et 31 août, l’association Les Secrets d’Héloïse...
DTSTART:20250830
DTEND:20250901
SUMMARY:Festival « Les Secrets de l’Être »
URL;VALUE=URI:https://www.villeneuvelesmaguelone.fr/evenement/festival-les-secrets-de-letre/
DTSTAMP:20260420T082615
UID:69e5e3271e237
END:VEVENT
END:VCALENDAR