BEGIN:VCALENDAR
VERSION:2.0
PRODID:-//hacksw/handcal//NONSGML v1.0//EN
CALSCALE:GREGORIAN
BEGIN:VEVENT
LOCATION:Cathédrale de Maguelone, Villeneuve-lès-Maguelone
DESCRIPTION:La 17ème saison musicale des Voix de Maguelone se poursuivra avec un concert de donné...
DTSTART:20251005T170000
DTEND:20251006
SUMMARY:Festival Les Voix de Maguelone : concert des moines de Gyutö
URL;VALUE=URI:https://www.villeneuvelesmaguelone.fr/evenement/festival-les-voix-de-maguelone-yann-golgevit-contre-tenor-et-directeur-artistique-2/
DTSTAMP:20260419T211141
UID:69e5450d8bf7c
END:VEVENT
END:VCALENDAR