BEGIN:VCALENDAR
VERSION:2.0
PRODID:-//hacksw/handcal//NONSGML v1.0//EN
CALSCALE:GREGORIAN
BEGIN:VEVENT
LOCATION:Cathédrale de Maguelone, Villeneuve-lès-Maguelone
DESCRIPTION:La 17ème saison musicale des Voix de Maguelone ouvrira avec le concert de Yann Golgevit...
DTSTART:20250928T170000
DTEND:20250929
SUMMARY:Festival Les Voix de Maguelone : Yann Golgevit
URL;VALUE=URI:https://www.villeneuvelesmaguelone.fr/evenement/festival-les-voix-de-maguelone-yann-golgevit-contre-tenor-et-directeur-artistique/
DTSTAMP:20260419T210949
UID:69e5449dd2774
END:VEVENT
END:VCALENDAR