BEGIN:VCALENDAR
VERSION:2.0
PRODID:-//hacksw/handcal//NONSGML v1.0//EN
CALSCALE:GREGORIAN
BEGIN:VEVENT
LOCATION:Théâtre municipal Jérôme Savary, 235 Boulevard des Moures 34750 Villeneuve-lès-Maguelone
DESCRIPTION:Chaque année, au mois de juillet, le Festival Radio France propose une programmation de grande...
DTSTART:20250717T190000
DTEND:20250717T200000
SUMMARY:Festival Radio France
URL;VALUE=URI:https://www.villeneuvelesmaguelone.fr/evenement/festival-radio-france/
DTSTAMP:20260420T095529
UID:69e5f811c2b73
END:VEVENT
END:VCALENDAR