BEGIN:VCALENDAR
VERSION:2.0
PRODID:-//hacksw/handcal//NONSGML v1.0//EN
CALSCALE:GREGORIAN
BEGIN:VEVENT
LOCATION:Villeneuve-lès-Maguelone
DESCRIPTION:Cette année, la Fête de la musique change de ton et vous donne rendez-vous dans...
DTSTART:20250621T153000
DTEND:20250621T000000
SUMMARY:Fête de la musique 2025
URL;VALUE=URI:https://www.villeneuvelesmaguelone.fr/evenement/fete-de-la-musique-2025/
DTSTAMP:20260420T082453
UID:69e5e2d58dcf2
END:VEVENT
END:VCALENDAR