BEGIN:VCALENDAR
VERSION:2.0
PRODID:-//hacksw/handcal//NONSGML v1.0//EN
CALSCALE:GREGORIAN
BEGIN:VEVENT
LOCATION:Centre de loisirs du Pilou, 34750 Villeneuve-lès-Maguelone
DESCRIPTION:Balades naturalistes, concert de cétacés, ateliers, conférence sur les oiseaux et bien d&rsquo;autres réjouissances vous...
DTSTART:20250521
DTEND:20250525
SUMMARY:Fête de la nature 2025
URL;VALUE=URI:https://www.villeneuvelesmaguelone.fr/evenement/fete-de-la-nature-2025/
DTSTAMP:20260420T142104
UID:69e6365031340
END:VEVENT
END:VCALENDAR