BEGIN:VCALENDAR
VERSION:2.0
PRODID:-//hacksw/handcal//NONSGML v1.0//EN
CALSCALE:GREGORIAN
BEGIN:VEVENT
LOCATION:235 Boulevard des Moures 34750 Villeneuve-lès-Maguelone
DESCRIPTION:Du 20 au 24 mai, dans le cadre de la fête de la nature et...
DTSTART:20250520
DTEND:20250525
SUMMARY:La nature s’invite à la médiathèque
URL;VALUE=URI:https://www.villeneuvelesmaguelone.fr/evenement/fete-de-la-nature-mediatheque/
DTSTAMP:20260420T095609
UID:69e5f839b8945
END:VEVENT
END:VCALENDAR