BEGIN:VCALENDAR
VERSION:2.0
PRODID:-//hacksw/handcal//NONSGML v1.0//EN
CALSCALE:GREGORIAN
BEGIN:VEVENT
LOCATION:541 Avenue de Mireval 34750 Villeneuve-lès-Maguelone
DESCRIPTION:Collectif La Vermine Avec le soutien de Montpellier Méditerranée Métropole Fortune au comptoir, trois petites...
DTSTART:20260213T190000
DTEND:20260214
SUMMARY:Fortune au comptoir
URL;VALUE=URI:https://www.villeneuvelesmaguelone.fr/evenement/fortune-au-comptoir/
DTSTAMP:20260420T013734
UID:69e5835e9bdbc
END:VEVENT
END:VCALENDAR