BEGIN:VCALENDAR
VERSION:2.0
PRODID:-//hacksw/handcal//NONSGML v1.0//EN
CALSCALE:GREGORIAN
BEGIN:VEVENT
LOCATION:550 Avenue de Mireval 34750 Villeneuve-lès-Maguelone
DESCRIPTION:Plus de 35 professionnels de tous horizons seront présents pour faire découvrir leur métier, partager...
DTSTART:20251004T090000
DTEND:20251004T123000
SUMMARY:Forum découverte des métiers
URL;VALUE=URI:https://www.villeneuvelesmaguelone.fr/evenement/forum-decouverte-des-metiers-2/
DTSTAMP:20260419T211108
UID:69e544ec31209
END:VEVENT
END:VCALENDAR