BEGIN:VCALENDAR
VERSION:2.0
PRODID:-//hacksw/handcal//NONSGML v1.0//EN
CALSCALE:GREGORIAN
BEGIN:VEVENT
LOCATION:Grand Jardin, 34750 Villeneuve-lès-Maguelone
DESCRIPTION:Le traditionnel forum des associations se tiendra le vendredi 29 août, de 17h30 à 21h30,...
DTSTART:20250829T173000
DTEND:20250829T213000
SUMMARY:Forum des associations
URL;VALUE=URI:https://www.villeneuvelesmaguelone.fr/evenement/forum-des-associations-2/
DTSTAMP:20260420T050127
UID:69e5b327cbbb9
END:VEVENT
END:VCALENDAR