BEGIN:VCALENDAR
VERSION:2.0
PRODID:-//hacksw/handcal//NONSGML v1.0//EN
CALSCALE:GREGORIAN
BEGIN:VEVENT
LOCATION:Théâtre municipal Jérôme Savary 34750 Villeneuve-lès-Maguelone
DESCRIPTION:Alice Zeniter Quand Tass était enfant, les adultes lui ont raconté l&rsquo;histoire de sa terre,...
DTSTART:20251127T200000
DTEND:20251128
SUMMARY:Frapper l’épopée
URL;VALUE=URI:https://www.villeneuvelesmaguelone.fr/evenement/frapper-lepopee/
DTSTAMP:20260420T000925
UID:69e56eb5ad31d
END:VEVENT
END:VCALENDAR