BEGIN:VCALENDAR
VERSION:2.0
PRODID:-//hacksw/handcal//NONSGML v1.0//EN
CALSCALE:GREGORIAN
BEGIN:VEVENT
LOCATION:Domaine du Chapitre
DESCRIPTION:❁ Hors les mursL’annexe &#8211; Baptiste AmannThéâtre &#8211; 45mn Quand Baptiste Amann a découvert, à...
DTSTART:20250402T200000
DTEND:20250403
SUMMARY:Grandes surfaces
URL;VALUE=URI:https://www.villeneuvelesmaguelone.fr/evenement/grandes-surfaces-2/
DTSTAMP:20260420T204039
UID:69e68f4773dcd
END:VEVENT
END:VCALENDAR