BEGIN:VCALENDAR
VERSION:2.0
PRODID:-//hacksw/handcal//NONSGML v1.0//EN
CALSCALE:GREGORIAN
BEGIN:VEVENT
LOCATION:Lieu communiqué à la réservation
DESCRIPTION:❁ Hors les mursEn Transition Cie – Alexandre CafarelliBalade éco-théâtrale &#8211; 1h15 « Greenwashing »,...
DTSTART:20250427T180000
DTEND:20250428
SUMMARY:GreenWalk
URL;VALUE=URI:https://www.villeneuvelesmaguelone.fr/evenement/greenwalk/
DTSTAMP:20260420T203911
UID:69e68eefdfbe6
END:VEVENT
END:VCALENDAR