BEGIN:VCALENDAR
VERSION:2.0
PRODID:-//hacksw/handcal//NONSGML v1.0//EN
CALSCALE:GREGORIAN
BEGIN:VEVENT
LOCATION:Théâtre municipal Jérôme Savary 34750 Villeneuve-lès-Maguelone
DESCRIPTION:Mina Kavani A 21 ans Mina Kavani quitte l’Iran des mollahs pour la France des...
DTSTART:20260127T200000
DTEND:20260128
SUMMARY:I’m deranged
URL;VALUE=URI:https://www.villeneuvelesmaguelone.fr/evenement/im-deranged/
DTSTAMP:20260420T000157
UID:69e56cf53c847
END:VEVENT
END:VCALENDAR