BEGIN:VCALENDAR
VERSION:2.0
PRODID:-//hacksw/handcal//NONSGML v1.0//EN
CALSCALE:GREGORIAN
BEGIN:VEVENT
LOCATION:15 Rue de la Capelette 34750 Villeneuve-lès-Maguelone
DESCRIPTION:Un nouvel espace de glisse urbaine est en train de voir le jour à Villeneuve-lès-Maguelone...
DTSTART:20251115T140000
DTEND:20251115T180000
SUMMARY:Inauguration du Pumptrack : une après-midi festive et sportive !
URL;VALUE=URI:https://www.villeneuvelesmaguelone.fr/evenement/inauguration-du-pumptrack-une-apres-midi-festive-et-sportive/
DTSTAMP:20260419T193741
UID:69e52f0543018
END:VEVENT
END:VCALENDAR