BEGIN:VCALENDAR
VERSION:2.0
PRODID:-//hacksw/handcal//NONSGML v1.0//EN
CALSCALE:GREGORIAN
BEGIN:VEVENT
LOCATION:Ecole maternelle Jean-Jacques Rousseau, Rue de la Figuiere 34750 Villeneuve-lès-Maguelone
DESCRIPTION:La ville vous convie à découvrir l&rsquo;école maternelle Jean-Jacques Rousseau, après 2 ans de travaux...
DTSTART:20250830T160000
DTEND:20250831
SUMMARY:Inauguration publique et festive
URL;VALUE=URI:https://www.villeneuvelesmaguelone.fr/evenement/inauguration-rousseau/
DTSTAMP:20260420T051011
UID:69e5b5334200d
END:VEVENT
END:VCALENDAR