BEGIN:VCALENDAR
VERSION:2.0
PRODID:-//hacksw/handcal//NONSGML v1.0//EN
CALSCALE:GREGORIAN
BEGIN:VEVENT
LOCATION:Théâtre Jérôme Savary
DESCRIPTION:Un festival qui promeut la création cinématographique et les jeunes talents. Avec l’association Atelier Cinéma...
DTSTART:20250613
DTEND:20250616
SUMMARY:Jeunesse En Court
URL;VALUE=URI:https://www.villeneuvelesmaguelone.fr/evenement/jeunesse-en-court-2025/
DTSTAMP:20260420T190056
UID:69e677e8b2afe
END:VEVENT
END:VCALENDAR