BEGIN:VCALENDAR
VERSION:2.0
PRODID:-//hacksw/handcal//NONSGML v1.0//EN
CALSCALE:GREGORIAN
BEGIN:VEVENT
LOCATION:235 Boulevard des Moures 34750 Villeneuve-lès-Maguelone
DESCRIPTION:Dès 6 ans. Rendez-vous pour un moment de jeu, de découverte et de plaisir où les...
DTSTART:20260325T170000
DTEND:20260325T180000
SUMMARY:Jeux : c’est l’heure de jouer
URL;VALUE=URI:https://www.villeneuvelesmaguelone.fr/evenement/jeux-cest-lheure-de-jouer-2/
DTSTAMP:20260419T162949
UID:69e502fd9518f
END:VEVENT
END:VCALENDAR