BEGIN:VCALENDAR
VERSION:2.0
PRODID:-//hacksw/handcal//NONSGML v1.0//EN
CALSCALE:GREGORIAN
BEGIN:VEVENT
LOCATION:235 Boulevard des Moures 34750 Villeneuve-lès-Maguelone
DESCRIPTION:Dès 6 ans. Rendez-vous pour un moment de jeu, de découverte et de plaisir où...
DTSTART:20260218T170000
DTEND:20260218T180000
SUMMARY:Jeux : c’est l’heure de jouer
URL;VALUE=URI:https://www.villeneuvelesmaguelone.fr/evenement/jeux-cest-lheure-de-jouer/
DTSTAMP:20260419T163735
UID:69e504cfb4aab
END:VEVENT
END:VCALENDAR