BEGIN:VCALENDAR
VERSION:2.0
PRODID:-//hacksw/handcal//NONSGML v1.0//EN
CALSCALE:GREGORIAN
BEGIN:VEVENT
LOCATION:13 Rue de la Capelette 34750 Villeneuve-lès-Maguelone
DESCRIPTION:Le 19 octobre, la Ville accueillera au stade d’athlétisme Alain Mimoun un événement sportif dédié...
DTSTART:20251019T100000
DTEND:20251019T160000
SUMMARY:Journée du sport adapté
URL;VALUE=URI:https://www.villeneuvelesmaguelone.fr/evenement/journee-du-sport-adapte/
DTSTAMP:20260419T210658
UID:69e543f2948c5
END:VEVENT
END:VCALENDAR