BEGIN:VCALENDAR
VERSION:2.0
PRODID:-//hacksw/handcal//NONSGML v1.0//EN
CALSCALE:GREGORIAN
BEGIN:VEVENT
LOCATION:Chemin du Salin 34750 Villeneuve-lès-Maguelone
DESCRIPTION:Organisée dans le cadre de la journée mondiale des zones humides, cette journée est l’occasion...
DTSTART:20260201T083000
DTEND:20260202
SUMMARY:Journée mondiale des zones humides
URL;VALUE=URI:https://www.villeneuvelesmaguelone.fr/evenement/journee-mondiale-des-zones-humides/
DTSTAMP:20260419T144802
UID:69e4eb2259c3b
END:VEVENT
END:VCALENDAR