BEGIN:VCALENDAR
VERSION:2.0
PRODID:-//hacksw/handcal//NONSGML v1.0//EN
CALSCALE:GREGORIAN
BEGIN:VEVENT
LOCATION:
DESCRIPTION:Les journées du Patrimoine sont une occasion spéciale pour les visiteurs de découvrir l&rsquo;histoire et...
DTSTART:20250920T100000
DTEND:20250921
SUMMARY:Journée du Patrimoine
URL;VALUE=URI:https://www.villeneuvelesmaguelone.fr/evenement/journees-du-patrimoine/
DTSTAMP:20260419T223704
UID:69e55910c782d
END:VEVENT
END:VCALENDAR