BEGIN:VCALENDAR
VERSION:2.0
PRODID:-//hacksw/handcal//NONSGML v1.0//EN
CALSCALE:GREGORIAN
BEGIN:VEVENT
LOCATION:
DESCRIPTION:Jeudi 26 juin, l&rsquo;association culturelle montpelliéraine Bipolar vous invite à explorer la rivière Mosson sous...
DTSTART:20250626T090000
DTEND:20250626T110000
SUMMARY:La Mosson et vous ! Balade sensible le long de la rivière.
URL;VALUE=URI:https://www.villeneuvelesmaguelone.fr/evenement/la-mosson-et-vous-balade-sensible-le-long-de-la-riviere/
DTSTAMP:20260420T064639
UID:69e5cbcfbeb35
END:VEVENT
END:VCALENDAR