BEGIN:VCALENDAR
VERSION:2.0
PRODID:-//hacksw/handcal//NONSGML v1.0//EN
CALSCALE:GREGORIAN
BEGIN:VEVENT
LOCATION:Théâtre Jérôme Savary
DESCRIPTION:La Compagnie des vagabondesCirque &#8211; 1h Dans le cadre du festival Lun.e.s, avec la coopérative...
DTSTART:20250314T200000
DTEND:20250315
SUMMARY:L’amour n’a pas d’écailles
URL;VALUE=URI:https://www.villeneuvelesmaguelone.fr/evenement/lamour-na-pas-decailles/
DTSTAMP:20260420T204241
UID:69e68fc134fa5
END:VEVENT
END:VCALENDAR