BEGIN:VCALENDAR
VERSION:2.0
PRODID:-//hacksw/handcal//NONSGML v1.0//EN
CALSCALE:GREGORIAN
BEGIN:VEVENT
LOCATION:101 Boulevard des Ecoles 34750 Villeneuve-lès-Maguelone
DESCRIPTION:Le CCAS organise avec le Département de l’Hérault des «&nbsp;Cafés des parents&nbsp;» animés en binôme...
DTSTART:20250605T093000
DTEND:20250605T110000
SUMMARY:Le café des parents
URL;VALUE=URI:https://www.villeneuvelesmaguelone.fr/evenement/le-cafe-des-parents-2-2-2-2-2/
DTSTAMP:20260420T173208
UID:69e663181c10c
END:VEVENT
END:VCALENDAR