BEGIN:VCALENDAR
VERSION:2.0
PRODID:-//hacksw/handcal//NONSGML v1.0//EN
CALSCALE:GREGORIAN
BEGIN:VEVENT
LOCATION:Théâtre municipal Jérôme Savary 34750 Villeneuve-lès-Maguelone
DESCRIPTION:Edouard Peurichard Lanceur de couteaux, fil-de-fériste et acrobate, Édouard Peurichard a décidé qu’enchaîner les prouesses...
DTSTART:20260206T200000
DTEND:20260207
SUMMARY:Le repos du guerrier
URL;VALUE=URI:https://www.villeneuvelesmaguelone.fr/evenement/le-repos-du-guerrier/
DTSTAMP:20260420T013510
UID:69e582cec762b
END:VEVENT
END:VCALENDAR