BEGIN:VCALENDAR
VERSION:2.0
PRODID:-//hacksw/handcal//NONSGML v1.0//EN
CALSCALE:GREGORIAN
BEGIN:VEVENT
LOCATION:235 Boulevard des Moures 34750 Villeneuve-lès-Maguelone
DESCRIPTION:Dans le cadre de Festi&rsquo;Petits. Découverte de la communication gestuelle pour favoriser les échanges avec...
DTSTART:20260124T103000
DTEND:20260125
SUMMARY:Lecture : « Dis, petits doigts »
URL;VALUE=URI:https://www.villeneuvelesmaguelone.fr/evenement/lecture-dis-petits-doigts/
DTSTAMP:20260419T180236
UID:69e518bc1138c
END:VEVENT
END:VCALENDAR