BEGIN:VCALENDAR
VERSION:2.0
PRODID:-//hacksw/handcal//NONSGML v1.0//EN
CALSCALE:GREGORIAN
BEGIN:VEVENT
LOCATION:235 Boulevard des Moures 34750 Villeneuve-lès-Maguelone
DESCRIPTION:Dans le cadre de Festi&rsquo;Petits. Lecture animée pleine de rires, de croquant et d&rsquo;histoires à...
DTSTART:20260128T103000
DTEND:20260129
SUMMARY:Lecture : fruits rigolos et légumes zinzins
URL;VALUE=URI:https://www.villeneuvelesmaguelone.fr/evenement/lecture-fruits-rigolos-et-legumes-zinzins-2/
DTSTAMP:20260419T180124
UID:69e51874858d8
END:VEVENT
END:VCALENDAR