BEGIN:VCALENDAR
VERSION:2.0
PRODID:-//hacksw/handcal//NONSGML v1.0//EN
CALSCALE:GREGORIAN
BEGIN:VEVENT
LOCATION:235 Boulevard des Moures 34750 Villeneuve-lès-Maguelone
DESCRIPTION:Dans le cadre de Festi’Petits. Dans une clairière enchantée, Cannelle, une jeune coccinelle, se réveille un...
DTSTART:20260121T103000
DTEND:20260122
SUMMARY:Lecture : le bal musette des insectes par la compagnie « Les petits enchanteurs »
URL;VALUE=URI:https://www.villeneuvelesmaguelone.fr/evenement/lecture-le-bal-musette-des-insectes-par-la-compagnie-les-petits-enchanteurs/
DTSTAMP:20260419T181008
UID:69e51a8046ca1
END:VEVENT
END:VCALENDAR