BEGIN:VCALENDAR
VERSION:2.0
PRODID:-//hacksw/handcal//NONSGML v1.0//EN
CALSCALE:GREGORIAN
BEGIN:VEVENT
LOCATION:
DESCRIPTION:Rendez-vous pour la 4ème édition des Épicures de Maguelone au Prat du Castel ! Au...
DTSTART:20250517T110000
DTEND:20250517T230000
SUMMARY:Les Epicure Maguelone
URL;VALUE=URI:https://www.villeneuvelesmaguelone.fr/evenement/les-epicure-maguelone/
DTSTAMP:20260420T095358
UID:69e5f7b63f12e
END:VEVENT
END:VCALENDAR