BEGIN:VCALENDAR
VERSION:2.0
PRODID:-//hacksw/handcal//NONSGML v1.0//EN
CALSCALE:GREGORIAN
BEGIN:VEVENT
LOCATION:
DESCRIPTION:Tous les mercredis soirs de l’été jusqu&rsquo;au 27 août, rendez-vous à la Passerelle du&nbsp;Pilou pour...
DTSTART:20250716T190000
DTEND:20250716T230000
SUMMARY:Les Estivales
URL;VALUE=URI:https://www.villeneuvelesmaguelone.fr/evenement/les-estivales-reviennent-cet-ete-16-07/
DTSTAMP:20260420T064440
UID:69e5cb58590f7
END:VEVENT
END:VCALENDAR