BEGIN:VCALENDAR
VERSION:2.0
PRODID:-//hacksw/handcal//NONSGML v1.0//EN
CALSCALE:GREGORIAN
BEGIN:VEVENT
LOCATION:
DESCRIPTION:⚠️ En raison des conditions météorologiques, les Estivales prévues ce mercredi 27 août sont annulées....
DTSTART:20250827T190000
DTEND:20250827T230000
SUMMARY:Les Estivales
URL;VALUE=URI:https://www.villeneuvelesmaguelone.fr/evenement/les-estivales-reviennent-cet-ete-27-08/
DTSTAMP:20260420T064302
UID:69e5caf6b55ff
END:VEVENT
END:VCALENDAR