BEGIN:VCALENDAR
VERSION:2.0
PRODID:-//hacksw/handcal//NONSGML v1.0//EN
CALSCALE:GREGORIAN
BEGIN:VEVENT
LOCATION:Place de la Porte Saint Laurent 34750 Villeneuve-lès-Maguelone
DESCRIPTION:Le 12 mai prochain, l’Hôtel de Ville s’illuminera en bleu à l’occasion de la Journée...
DTSTART:20250512
DTEND:20250513
SUMMARY:L’Hôtel de Ville en bleu pour la Journée mondiale de la fibromyalgie
URL;VALUE=URI:https://www.villeneuvelesmaguelone.fr/evenement/lhotel-de-ville-en-bleu-pour-la-journee-mondiale-de-la-fibromyalgie/
DTSTAMP:20260420T095852
UID:69e5f8dc29cb8
END:VEVENT
END:VCALENDAR