BEGIN:VCALENDAR
VERSION:2.0
PRODID:-//hacksw/handcal//NONSGML v1.0//EN
CALSCALE:GREGORIAN
BEGIN:VEVENT
LOCATION:
DESCRIPTION:❁ Hors les mursEntrée libre Oyez, oyez, jeudi 13 mars dès 17h30, vous risquez de...
DTSTART:20250313T190000
DTEND:20250314
SUMMARY:Livraison de poèmes
URL;VALUE=URI:https://www.villeneuvelesmaguelone.fr/evenement/livraison-de-poemes/
DTSTAMP:20260420T190216
UID:69e678386248e
END:VEVENT
END:VCALENDAR