BEGIN:VCALENDAR
VERSION:2.0
PRODID:-//hacksw/handcal//NONSGML v1.0//EN
CALSCALE:GREGORIAN
BEGIN:VEVENT
LOCATION:235 Boulevard des Moures 34750 Villeneuve-lès-Maguelone
DESCRIPTION:L&rsquo;USV organise son loto le dimanche 1er février avec de nombreux lots à gagner. 2000€...
DTSTART:20260201T140000
DTEND:20260201T170000
SUMMARY:Loto de l’Union Sportive Villeneuvoise
URL;VALUE=URI:https://www.villeneuvelesmaguelone.fr/evenement/loto-organise-par-lunion-sportive-villeneuvoise/
DTSTAMP:20260419T144617
UID:69e4eab9c6893
END:VEVENT
END:VCALENDAR