BEGIN:VCALENDAR
VERSION:2.0
PRODID:-//hacksw/handcal//NONSGML v1.0//EN
CALSCALE:GREGORIAN
BEGIN:VEVENT
LOCATION:Espace Pierre Maguelon, 34750 Villeneuve-lès-Maguelone
DESCRIPTION:Du 21 juillet au 18 août tous les lundis soir de 19h à 22h30 à...
DTSTART:20250728T190000
DTEND:20250728T223000
SUMMARY:Lundis de la Capou 28.07
URL;VALUE=URI:https://www.villeneuvelesmaguelone.fr/evenement/lundis-capou-21-juillet-2/
DTSTAMP:20260420T082356
UID:69e5e29c168c8
END:VEVENT
END:VCALENDAR