BEGIN:VCALENDAR
VERSION:2.0
PRODID:-//hacksw/handcal//NONSGML v1.0//EN
CALSCALE:GREGORIAN
BEGIN:VEVENT
LOCATION:Espace Pierre Maguelon, 34750 Villeneuve-lès-Maguelone
DESCRIPTION:Du 21 juillet au 18 août tous les lundis soir de 19h à 22h30 à...
DTSTART:20250721T190000
DTEND:20250721T223000
SUMMARY:Lundis de la Capou 21.07
URL;VALUE=URI:https://www.villeneuvelesmaguelone.fr/evenement/lundis-capou-21-juillet/
DTSTAMP:20260420T082336
UID:69e5e288ec10a
END:VEVENT
END:VCALENDAR