BEGIN:VCALENDAR
VERSION:2.0
PRODID:-//hacksw/handcal//NONSGML v1.0//EN
CALSCALE:GREGORIAN
BEGIN:VEVENT
LOCATION:Boulevard des Moures 34750 Villeneuve-lès-Maguelone
DESCRIPTION:Dépistage du cancer du sein des femmes de 50 à 74 ans. Vous pouvez vous...
DTSTART:20250331T090000
DTEND:20250331T174500
SUMMARY:Mammobile ▷ Dépistage du cancer du sein
URL;VALUE=URI:https://www.villeneuvelesmaguelone.fr/evenement/mammobile-%e2%96%ba-depistage-du-cancer-du-sein-2/
DTSTAMP:20260420T160247
UID:69e64e27dfd95
END:VEVENT
END:VCALENDAR